BEGIN:VCALENDAR
VERSION:2.0
PRODID:-//Patterson Galleries - ECPv5.5.0.1//NONSGML v1.0//EN
CALSCALE:GREGORIAN
METHOD:PUBLISH
X-WR-CALNAME:Patterson Galleries
X-ORIGINAL-URL:https://pattersongalleries.com
X-WR-CALDESC:Events for Patterson Galleries
BEGIN:VTIMEZONE
TZID:UTC
BEGIN:STANDARD
TZOFFSETFROM:+0000
TZOFFSETTO:+0000
TZNAME:UTC
DTSTART:20210101T000000
END:STANDARD
END:VTIMEZONE
BEGIN:VEVENT
DTSTART;VALUE=DATE:20211001
DTEND;VALUE=DATE:20220101
DTSTAMP:20260425T113056
CREATED:20200918T045637Z
LAST-MODIFIED:20220814T164952Z
UID:1463-1633046400-1640995199@pattersongalleries.com
SUMMARY:Featured works at Surface of Westport
DESCRIPTION:select marble sculptures
URL:https://pattersongalleries.com/event/featured-works-at-surface-of-westport/
LOCATION:Surface\, 1320 Post Rd E\, Westport\, CT\, 06880\, United States
CATEGORIES:Fall Shows 2021,Spring/Summer Shows 2021
END:VEVENT
END:VCALENDAR