BEGIN:VCALENDAR
VERSION:2.0
PRODID:-//Patterson Galleries - ECPv5.5.0.1//NONSGML v1.0//EN
CALSCALE:GREGORIAN
METHOD:PUBLISH
X-WR-CALNAME:Patterson Galleries
X-ORIGINAL-URL:https://pattersongalleries.com
X-WR-CALDESC:Events for Patterson Galleries
BEGIN:VTIMEZONE
TZID:UTC
BEGIN:STANDARD
TZOFFSETFROM:+0000
TZOFFSETTO:+0000
TZNAME:UTC
DTSTART:20220101T000000
END:STANDARD
END:VTIMEZONE
BEGIN:VEVENT
DTSTART;TZID=UTC:20221209T130000
DTEND;TZID=UTC:20221223T170000
DTSTAMP:20260424T174951
CREATED:20221205T053047Z
LAST-MODIFIED:20221205T053813Z
UID:1579-1670590800-1671814800@pattersongalleries.com
SUMMARY:Group Show @ Kent Art Association
DESCRIPTION:  \nReception: Friday\, Dec 9\, 2022\,  6-8pm
URL:https://pattersongalleries.com/event/group-show-kent-art-association/
LOCATION:Kent Art Association\, 21 S. Main St.\, Kent\, CT\, 06757\, United States
CATEGORIES:Fall Shows 2022
ATTACH;FMTTYPE=image/jpeg:https://pattersongalleries.com/wp-content/uploads/2022/12/IMG_1011-scaled.jpg
END:VEVENT
END:VCALENDAR